BEGIN:VCALENDAR
VERSION:2.0
PRODID:-//Bismarckschule städt. Gemeinschaftsgrundschule - ECPv6.14.2//NONSGML v1.0//EN
CALSCALE:GREGORIAN
METHOD:PUBLISH
X-ORIGINAL-URL:https://bismarckschule-steinfurt.de
X-WR-CALDESC:Veranstaltungen für Bismarckschule städt. Gemeinschaftsgrundschule
REFRESH-INTERVAL;VALUE=DURATION:PT1H
X-Robots-Tag:noindex
X-PUBLISHED-TTL:PT1H
BEGIN:VTIMEZONE
TZID:Europe/Berlin
BEGIN:DAYLIGHT
TZOFFSETFROM:+0100
TZOFFSETTO:+0200
TZNAME:CEST
DTSTART:20230326T010000
END:DAYLIGHT
BEGIN:STANDARD
TZOFFSETFROM:+0200
TZOFFSETTO:+0100
TZNAME:CET
DTSTART:20231029T010000
END:STANDARD
BEGIN:DAYLIGHT
TZOFFSETFROM:+0100
TZOFFSETTO:+0200
TZNAME:CEST
DTSTART:20240331T010000
END:DAYLIGHT
BEGIN:STANDARD
TZOFFSETFROM:+0200
TZOFFSETTO:+0100
TZNAME:CET
DTSTART:20241027T010000
END:STANDARD
BEGIN:DAYLIGHT
TZOFFSETFROM:+0100
TZOFFSETTO:+0200
TZNAME:CEST
DTSTART:20250330T010000
END:DAYLIGHT
BEGIN:STANDARD
TZOFFSETFROM:+0200
TZOFFSETTO:+0100
TZNAME:CET
DTSTART:20251026T010000
END:STANDARD
END:VTIMEZONE
BEGIN:VTIMEZONE
TZID:Europe/Amsterdam
BEGIN:DAYLIGHT
TZOFFSETFROM:+0100
TZOFFSETTO:+0200
TZNAME:CEST
DTSTART:20230326T010000
END:DAYLIGHT
BEGIN:STANDARD
TZOFFSETFROM:+0200
TZOFFSETTO:+0100
TZNAME:CET
DTSTART:20231029T010000
END:STANDARD
BEGIN:DAYLIGHT
TZOFFSETFROM:+0100
TZOFFSETTO:+0200
TZNAME:CEST
DTSTART:20240331T010000
END:DAYLIGHT
BEGIN:STANDARD
TZOFFSETFROM:+0200
TZOFFSETTO:+0100
TZNAME:CET
DTSTART:20241027T010000
END:STANDARD
END:VTIMEZONE
BEGIN:VEVENT
DTSTART;TZID=Europe/Berlin:20250221T080000
DTEND;TZID=Europe/Berlin:20250221T120000
DTSTAMP:20260420T140832
CREATED:20241222T152139Z
LAST-MODIFIED:20241222T152139Z
UID:1060-1740124800-1740139200@bismarckschule-steinfurt.de
SUMMARY:Trommel - Projekt 2025
DESCRIPTION:
URL:https://bismarckschule-steinfurt.de/event/trommel-projekt-2025-5/
LOCATION:Sporthalle Willibrordschule
END:VEVENT
BEGIN:VEVENT
DTSTART;TZID=Europe/Berlin:20250220T080000
DTEND;TZID=Europe/Berlin:20250220T130000
DTSTAMP:20260420T140832
CREATED:20241222T152100Z
LAST-MODIFIED:20241222T152100Z
UID:1058-1740038400-1740056400@bismarckschule-steinfurt.de
SUMMARY:Trommel - Projekt 2025
DESCRIPTION:
URL:https://bismarckschule-steinfurt.de/event/trommel-projekt-2025-4/
LOCATION:Sporthalle Willibrordschule
END:VEVENT
BEGIN:VEVENT
DTSTART;TZID=Europe/Berlin:20250219T080000
DTEND;TZID=Europe/Berlin:20250219T130000
DTSTAMP:20260420T140832
CREATED:20241222T152028Z
LAST-MODIFIED:20241222T152028Z
UID:1056-1739952000-1739970000@bismarckschule-steinfurt.de
SUMMARY:Trommel - Projekt 2025
DESCRIPTION:
URL:https://bismarckschule-steinfurt.de/event/trommel-projekt-2025-3/
LOCATION:Sporthalle Willibrordschule
END:VEVENT
BEGIN:VEVENT
DTSTART;TZID=Europe/Berlin:20250218T080000
DTEND;TZID=Europe/Berlin:20250218T130000
DTSTAMP:20260420T140832
CREATED:20241222T152003Z
LAST-MODIFIED:20241222T152003Z
UID:1054-1739865600-1739883600@bismarckschule-steinfurt.de
SUMMARY:Trommel - Projekt 2025
DESCRIPTION:
URL:https://bismarckschule-steinfurt.de/event/trommel-projekt-2025-2/
LOCATION:Sporthalle Willibrordschule
END:VEVENT
BEGIN:VEVENT
DTSTART;TZID=Europe/Berlin:20250217T080000
DTEND;TZID=Europe/Berlin:20250217T130000
DTSTAMP:20260420T140832
CREATED:20241222T151915Z
LAST-MODIFIED:20241222T151915Z
UID:1052-1739779200-1739797200@bismarckschule-steinfurt.de
SUMMARY:Trommel - Projekt 2025
DESCRIPTION:Wir trommeln – gemeinsam im Takt!\nEs ist nun schon eine Weile her\, dass in der Bismarckschule afrikanische Trommelklänge zu hören waren. Beim letzten Trommelprojekt wurden an der Schule noch acht Klassen unterrichtet. Das Abschlusskonzert fand auf dem Schulhof vor begeisterten Zuschauern statt. Im Anschluss an das Projekt konnte die Schule eine Vielzahl von Trommeln aus der Spende des Herrn Arning anschaffen. Nun\, nach mehr als acht Jahren\, ist es wieder so weit! \nIm Februar 2025 werden alle Kinder der Bismarckschule das Trommeln erlernen. Im großen Konzert am Freitag\, den 21.02.2025\, spielen sie gemeinsam eine Geschichte\, die in Afrika spielt. Jeder Jahrgang stellt eine Tierart dar. … mehr wird noch nicht verraten.
URL:https://bismarckschule-steinfurt.de/event/trommel-projekt-2025/
LOCATION:Sporthalle Willibrordschule
END:VEVENT
BEGIN:VEVENT
DTSTART;TZID=Europe/Berlin:20250211T131500
DTEND;TZID=Europe/Berlin:20250211T144500
DTSTAMP:20260420T140832
CREATED:20241227T183140Z
LAST-MODIFIED:20241228T061619Z
UID:1245-1739279700-1739285100@bismarckschule-steinfurt.de
SUMMARY:Fortbildung für die Kollegien der Bismarckschule und des Grundschulverbund
DESCRIPTION:Heute nehmen ab 13:15 Uhr beide Kollegien an der Fortbildung unter der Leitung von Paul Mangel\, Schulpsychologe in Steinfurt\, teil. \n 
URL:https://bismarckschule-steinfurt.de/event/fortbildung-fuer-die-kollegien-der-bismarckschule-und-des-grundschulverbund/
LOCATION:Bismarckschule
CATEGORIES:Schulaktionen,Schulmitwirkung
END:VEVENT
BEGIN:VEVENT
DTSTART;TZID=Europe/Berlin:20241113T080000
DTEND;TZID=Europe/Berlin:20241113T160000
DTSTAMP:20260420T140832
CREATED:20241012T052925Z
LAST-MODIFIED:20241012T052933Z
UID:907-1731484800-1731513600@bismarckschule-steinfurt.de
SUMMARY:Pädagogischer Ganztag - Schulentwicklung
DESCRIPTION:Wir arbeiten am Schutzkonzept unserer Schule. \nFür die Kinder der BMB und der OGS gibt es ein Betreuungsangebot.
URL:https://bismarckschule-steinfurt.de/event/paedagogischer-ganztag-schulentwicklung/
LOCATION:Bismarckschule
CATEGORIES:Pädagogische Ganztage
ATTACH;FMTTYPE=image/jpeg:https://bismarckschule-steinfurt.de/wp-content/uploads/2023/08/875A9FF6-D59C-4F0D-B904-F19E05455035_1_105_c.jpeg
END:VEVENT
BEGIN:VEVENT
DTSTART;TZID=Europe/Berlin:20241111T080000
DTEND;TZID=Europe/Berlin:20241111T170000
DTSTAMP:20260420T140832
CREATED:20241012T053136Z
LAST-MODIFIED:20241012T053136Z
UID:909-1731312000-1731344400@bismarckschule-steinfurt.de
SUMMARY:Fachtag der OGS
DESCRIPTION:Heute findet ganztägig ein Fortbildungstag für das Team der OGS statt. \nEs gibt keine Betreuung nach dem Unterricht.
URL:https://bismarckschule-steinfurt.de/event/fachtag-der-ogs/
CATEGORIES:OGS / BMB,Schulaktionen
END:VEVENT
BEGIN:VEVENT
DTSTART;VALUE=DATE:20241111
DTEND;VALUE=DATE:20241116
DTSTAMP:20260420T140832
CREATED:20241012T054205Z
LAST-MODIFIED:20241012T054205Z
UID:915-1731283200-1731715199@bismarckschule-steinfurt.de
SUMMARY:Schulanmeldung für 2025/26
DESCRIPTION:In dieser Woche finden täglich die Schulparcourstermine für die persönliche Schulanmeldung 2025/26 statt. Die Einzeltermine können über das Sekretariat vereinbart werden. \nTel. 02552-925-580
URL:https://bismarckschule-steinfurt.de/event/schulanmeldung-fuer-2025-26/
CATEGORIES:Schulaktionen
END:VEVENT
BEGIN:VEVENT
DTSTART;VALUE=DATE:20241014
DTEND;VALUE=DATE:20241026
DTSTAMP:20260420T140832
CREATED:20241012T053339Z
LAST-MODIFIED:20241012T053339Z
UID:911-1728864000-1729900799@bismarckschule-steinfurt.de
SUMMARY:Ferienbetreuung "der Herbst und Halloween"
DESCRIPTION:In den beiden Ferienwochen findet die OGS-Betreuung zur Thematik „Herbst und Halloween“ statt. Es gibt Spiel- und Bastelangebote sowie einen Ausflug zum Emsflower.
URL:https://bismarckschule-steinfurt.de/event/ferienbetreuung-der-herbst-und-halloween/
LOCATION:Bismarckschule
CATEGORIES:Ferien in NRW,OGS / BMB
END:VEVENT
BEGIN:VEVENT
DTSTART;TZID=Europe/Berlin:20240819T083000
DTEND;TZID=Europe/Berlin:20240819T130000
DTSTAMP:20260420T140832
CREATED:20240713T172814Z
LAST-MODIFIED:20240713T172814Z
UID:816-1724056200-1724072400@bismarckschule-steinfurt.de
SUMMARY:Schuljahresanfangskonferenz Team der Schule
DESCRIPTION:
URL:https://bismarckschule-steinfurt.de/event/schuljahresanfangskonferenz-team-der-schule/
END:VEVENT
BEGIN:VEVENT
DTSTART;VALUE=DATE:20240813
DTEND;VALUE=DATE:20240816
DTSTAMP:20260420T140832
CREATED:20240713T172951Z
LAST-MODIFIED:20240713T172951Z
UID:818-1723507200-1723766399@bismarckschule-steinfurt.de
SUMMARY:Umräumen in der Bismarckschule
DESCRIPTION:In diesen Sommerferien ziehen alle Klassen und Lehrer:innen innerhalb des Altbaus um. Mit Unterstützung durch die Mitarbeiter des Bauhofs hoffen wir\, dass wir in drei Tagen fertig sind.
URL:https://bismarckschule-steinfurt.de/event/umraeumen-in-der-bismarckschule/
END:VEVENT
BEGIN:VEVENT
DTSTART;VALUE=DATE:20240708
DTEND;VALUE=DATE:20240821
DTSTAMP:20260420T140832
CREATED:20240713T172713Z
LAST-MODIFIED:20240713T172724Z
UID:814-1720396800-1724198399@bismarckschule-steinfurt.de
SUMMARY:Sommerferien 2024
DESCRIPTION:
URL:https://bismarckschule-steinfurt.de/event/sommerferien-2024/
LOCATION:NRW
END:VEVENT
BEGIN:VEVENT
DTSTART;VALUE=DATE:20240617
DTEND;VALUE=DATE:20240618
DTSTAMP:20260420T140832
CREATED:20240530T180144Z
LAST-MODIFIED:20240530T180149Z
UID:683-1718582400-1718668799@bismarckschule-steinfurt.de
SUMMARY:Ausgleichstag für die Schulkirmes
DESCRIPTION:Der heutige Montag ist der Ausgleichstag für den Tag der Schulkirmes.
URL:https://bismarckschule-steinfurt.de/event/ausgleichstag-fuer-die-schulkirmes/
END:VEVENT
BEGIN:VEVENT
DTSTART;TZID=Europe/Amsterdam:20240615T100000
DTEND;TZID=Europe/Amsterdam:20240615T140000
DTSTAMP:20260420T140832
CREATED:20230826T060358Z
LAST-MODIFIED:20240530T180045Z
UID:268-1718445600-1718460000@bismarckschule-steinfurt.de
SUMMARY:Schulkirmes
DESCRIPTION:Im Schuljahr 2023/24 möchten wir mit allen Familien eine bunte Schulkirmes gestalten. Die Eltern\, Kinder und Lehrer:innen sowie das Team der OGS werden sicherlich ein tolles Programm auf die Beine stellen. \nDas Programm steht! Es wird ein toller\, bunter Tag werden.
URL:https://bismarckschule-steinfurt.de/event/schulkirmes/
LOCATION:Bismarckschule
END:VEVENT
BEGIN:VEVENT
DTSTART;TZID=Europe/Amsterdam:20240607T080000
DTEND;TZID=Europe/Amsterdam:20240607T120000
DTSTAMP:20260420T140832
CREATED:20230826T060527Z
LAST-MODIFIED:20230826T060638Z
UID:270-1717747200-1717761600@bismarckschule-steinfurt.de
SUMMARY:Bundesjugendspiele
DESCRIPTION:Bei diesem sportlichen Event benötigen wir die Hilfe und Unterstützung der Eltern.
URL:https://bismarckschule-steinfurt.de/event/bundesjugendspiele/
LOCATION:Volksbank Stadion
END:VEVENT
BEGIN:VEVENT
DTSTART;TZID=Europe/Berlin:20240510T080000
DTEND;TZID=Europe/Berlin:20240510T170000
DTSTAMP:20260420T140832
CREATED:20240511T115718Z
LAST-MODIFIED:20240511T115913Z
UID:664-1715328000-1715360400@bismarckschule-steinfurt.de
SUMMARY:Stadtradeln 2024 - wir sind dabei...
DESCRIPTION:Stadtradeln Steinfurt \nAuch in diesem Jahr 2024 gibt es wieder das Stadtradeln und damit verbunden das Schulradeln. Hier geht es darum möglichst viele Kilometer mit dem Rad zu absolvieren und diese gemeinsam auf der Plattform Stadtradeln. zu sammeln. \nStadtradeln\nMit dem 09. Mai beginnt das Stadtradeln 2024. \nFür den Schulentscheid der Stadt Steinfurt möchten wir alle\nEltern und Kinder bitten für ihre Schule fleißig Kilometer \nzu sammeln.\nEs gibt ein Team "Bismarckschule"\, dem Sie beitreten können.
URL:https://bismarckschule-steinfurt.de/event/stadtradeln-2024-wir-sind-dabei/
END:VEVENT
BEGIN:VEVENT
DTSTART;TZID=Europe/Berlin:20231218T090000
DTEND;TZID=Europe/Berlin:20231218T103000
DTSTAMP:20260420T140832
CREATED:20230916T175804Z
LAST-MODIFIED:20231111T161343Z
UID:321-1702890000-1702895400@bismarckschule-steinfurt.de
SUMMARY:"Nussknacker und Mausekönig"
DESCRIPTION:Unseren Kinder in der Schule auch kulturelle Angebote machen zu können ist uns sehr wichtig. „Klangvolle Bildung – magische Momente für eine musikreiche Zukunft“ – unter diesem Motto stellte der Förderverein der Bismarckschule e.V. einen Antrag zur Förderung durch die Kreissparkasse Steinfurt. \nDer Förderantrag wurde angenommen und nun können wir – gemeinsam mit dem Grundschulverbund Steinfurt – unseren Kindern der Jahrgänge 2 bis 4 dieses besonderen Geschenk in der Vorweihnachtszeit machen. \nVielen Dank \nDie Kinder der Bismarckschule werden die Vorstellung in der Zeit von 9:00 Uhr bis 10:30 Uhr erleben. Wenn Sie als Eltern oder Großeltern Lust haben ebenfalls zuzuschauen\, dann steht Ihnen die Tribüne der Halle offen oder es findet sich noch ein Plätzchen in der Halle selbst.
URL:https://bismarckschule-steinfurt.de/event/nussknacker-und-mausekoenig/
LOCATION:Sporthalle Willibrordschule
CATEGORIES:Klassenaktionen,Kulturangebot,Schulaktionen
END:VEVENT
BEGIN:VEVENT
DTSTART;TZID=Europe/Berlin:20231214T180000
DTEND;TZID=Europe/Berlin:20231214T182000
DTSTAMP:20260420T140832
CREATED:20231111T161531Z
LAST-MODIFIED:20231111T161714Z
UID:457-1702576800-1702578000@bismarckschule-steinfurt.de
SUMMARY:lebendiger Adventskalender 2023
DESCRIPTION:Die 4. Klässler der Bismarckschule gestalten am 14. Dezember um 18 Uhr das Adventsfenster an der Bismarckschule. \n 
URL:https://bismarckschule-steinfurt.de/event/lebendiger-adventskalender-2023/
LOCATION:Bismarckschule
END:VEVENT
BEGIN:VEVENT
DTSTART;TZID=Europe/Berlin:20231206T093000
DTEND;TZID=Europe/Berlin:20231206T095500
DTSTAMP:20260420T140832
CREATED:20231111T162313Z
LAST-MODIFIED:20231111T162313Z
UID:463-1701855000-1701856500@bismarckschule-steinfurt.de
SUMMARY:Denkt der Nikolaus an uns?
DESCRIPTION:Am heutigen Tag werden wir es wissen. 🙂 Wir freuen uns auf seinen Besuch.
URL:https://bismarckschule-steinfurt.de/event/denkt-der-nikolaus-an-uns/
LOCATION:Bismarckschule
END:VEVENT
BEGIN:VEVENT
DTSTART;VALUE=DATE:20231205
DTEND;VALUE=DATE:20231206
DTSTAMP:20260420T140832
CREATED:20231111T160733Z
LAST-MODIFIED:20231111T160733Z
UID:453-1701734400-1701820799@bismarckschule-steinfurt.de
SUMMARY:Lesung aus dem "Magischen Baumhaus" für den Jahrgang 3 und 4
DESCRIPTION:Die Schauspielerin Laura Mann wird uns ein zweites Mal besuchen und den Kindern aus einem Buch der Reihe „Das magische Baumhaus“ vorlesen. Der Förderverein der Stadtbücherei ermöglicht uns diese besondere Zeit. Vielen Dank dafür! \nFrau Mann wird direkt aus einem Buch lesen und durch den Einsatz von Stimme\, Mimik\, Gestik und Bewegungen die Geschichte so lebendig präsentieren\, dass die Kinder begeistert mitfiebern können.
URL:https://bismarckschule-steinfurt.de/event/lesung-aus-dem-magischen-baumhaus-fuer-den-jahrgang-3-und-4/
LOCATION:Bismarckschule
END:VEVENT
BEGIN:VEVENT
DTSTART;VALUE=DATE:20231202
DTEND;VALUE=DATE:20231203
DTSTAMP:20260420T140832
CREATED:20231111T161959Z
LAST-MODIFIED:20231111T161959Z
UID:459-1701475200-1701561599@bismarckschule-steinfurt.de
SUMMARY:Hänsel und Gretel - Ein Erlebniskonzert für die ganze Familie
DESCRIPTION:präsentiert die Musikschule Steinfurt in der Aula des Gymnasium Borghorst unter der Beteiligung der Kinder aus den JeKiTs Kursen der Grundschulen. \nÜber die Zeiten der Vorstellungen am Samstag\, den 02.12.2023 und Sonntag\, den 03.12.2023 werden die Eltern durch die Musikschule über Elternnachricht.de informiert.
URL:https://bismarckschule-steinfurt.de/event/haensel-und-gretel-ein-erlebniskonzert-fuer-die-ganze-familie/
END:VEVENT
BEGIN:VEVENT
DTSTART;TZID=Europe/Berlin:20231122T080000
DTEND;TZID=Europe/Berlin:20231122T160000
DTSTAMP:20260420T140832
CREATED:20231009T180941Z
LAST-MODIFIED:20231111T155938Z
UID:397-1700640000-1700668800@bismarckschule-steinfurt.de
SUMMARY:Pädagogischer Ganztag für das Gesamtteam der Bismarckschule
DESCRIPTION:An diesem Pädagogischen Ganztag geht es inhaltlich um die Schulentwicklung der „Offenen Ganztagsschule Bismarckschule“. Die Teams der Lehrer:innen\, der BMB und der OGS entwickeln das Konzept der Offenen Ganztagsschule weiter. \nDie Familien\, deren Kinder die OGS oder BMB besuchen\, wird eine Notgruppe eingerichtet. Die Abfrage für den Betreuungsbedarf wurde über Elternnachricht.de frei gegeben. Da auch die Gruppenleitungen am Ganztag teilnehmen\, stehen nicht alle Betreuungspersonen zur Verfügung. \n  \n 
URL:https://bismarckschule-steinfurt.de/event/paedagogischer-ganztag-fuer-das-gesamtteam-der-bismarckschule/
LOCATION:Bismarckschule
CATEGORIES:Pädagogische Ganztage
END:VEVENT
BEGIN:VEVENT
DTSTART;TZID=Europe/Berlin:20231118T090000
DTEND;TZID=Europe/Berlin:20231118T170000
DTSTAMP:20260420T140832
CREATED:20231109T184733Z
LAST-MODIFIED:20231109T185059Z
UID:447-1700298000-1700326800@bismarckschule-steinfurt.de
SUMMARY:Wochenendseminar "Leselernhelfer"
DESCRIPTION:An diesem Wochenende findet abermals ein Seminar für ehrenamtliche Menschen statt\, die als Leselernhelfer:in in einer Schule aktiv werden wollen. Das Seminar findet am Samstag und Sonntag in den Räumen der Bismarckschule statt. \nDiese Veranstaltung findet in der Kooperation zwischen dem Kulturforum Steinfurt\, der Bismarckschule und Mentor Steinfurt e.V. statt. Federführend ist das Kulturforum\, das den Teilnehmern:innen dieses kostenfreie Seminar anbietet.
URL:https://bismarckschule-steinfurt.de/event/wochenendseminar-leselernhelfer/
LOCATION:Bismarckschule
END:VEVENT
BEGIN:VEVENT
DTSTART;TZID=Europe/Berlin:20231117T080000
DTEND;TZID=Europe/Berlin:20231117T123000
DTSTAMP:20260420T140832
CREATED:20231109T184323Z
LAST-MODIFIED:20231109T184323Z
UID:445-1700208000-1700224200@bismarckschule-steinfurt.de
SUMMARY:Bundesweiter Vorlesetag 2023
DESCRIPTION:An jedem 3. Freitag im November findet bundesweit der Vorlesetag statt. Auch wir beteiligen uns wieder daran. In jeder Klasse wird ein Buch in den Fokus der Arbeit an diesem Freitag gestellt. Wir freuen uns schon sehr auf viele tolle Ergebnisse.
URL:https://bismarckschule-steinfurt.de/event/bundesweiter-vorlesetag-2023/
LOCATION:Bismarckschule
END:VEVENT
BEGIN:VEVENT
DTSTART;TZID=Europe/Berlin:20231111T080000
DTEND;TZID=Europe/Berlin:20231111T170000
DTSTAMP:20260420T140832
CREATED:20231111T170052Z
LAST-MODIFIED:20231111T170058Z
UID:481-1699689600-1699722000@bismarckschule-steinfurt.de
SUMMARY:"Rückenschulung Felix Fit" für den Jahrgang 1
DESCRIPTION:Durch Frau Tropberger haben die Kinder der drei Klassen im ersten Schuljahr ein gesundheitsförderndes Sportprogramm in Aussicht. Im Dezember werden sie in den Sportstunden erfahren\, was sie selbst tun können\, um ihren Rücken gesund zu halten. \nWir wünschen euch viel Spaß und bedanken uns bei Frau Tropberger für ihre Unterstützung.
URL:https://bismarckschule-steinfurt.de/event/rueckenschulung-felix-fit-fuer-den-jahrgang-1/
END:VEVENT
BEGIN:VEVENT
DTSTART;TZID=Europe/Berlin:20231111T080000
DTEND;TZID=Europe/Berlin:20231111T170000
DTSTAMP:20260420T140832
CREATED:20231111T162152Z
LAST-MODIFIED:20231111T162152Z
UID:461-1699689600-1699722000@bismarckschule-steinfurt.de
SUMMARY:Back- und Basteltage in den einzelnen Klassen
DESCRIPTION:Mit der Adventszeit ziehen auch wieder süße Düfte von Plätzchen durch die Flure und aus den Klassenräumen dringen murmelnde Stimmen\, die sich über die Bastelanleitungen der weihnachtlichen Dekorationen austauschen. \nEs weihnachtet! Alle Jahre wieder!
URL:https://bismarckschule-steinfurt.de/event/back-und-basteltage-in-den-einzelnen-klassen/
END:VEVENT
BEGIN:VEVENT
DTSTART;VALUE=DATE:20231002
DTEND;VALUE=DATE:20231014
DTSTAMP:20260420T140832
CREATED:20231009T180658Z
LAST-MODIFIED:20231009T180658Z
UID:394-1696204800-1697241599@bismarckschule-steinfurt.de
SUMMARY:Herbstferien 2023
DESCRIPTION:
URL:https://bismarckschule-steinfurt.de/event/herbstferien-2023/
LOCATION:NRW
CATEGORIES:Ferien in NRW
END:VEVENT
BEGIN:VEVENT
DTSTART;TZID=Europe/Berlin:20230929T080000
DTEND;TZID=Europe/Berlin:20230929T100000
DTSTAMP:20260420T140832
CREATED:20231009T180604Z
LAST-MODIFIED:20231009T180604Z
UID:392-1695974400-1695981600@bismarckschule-steinfurt.de
SUMMARY:Radfahrprüfung der 4. Klässler
DESCRIPTION:
URL:https://bismarckschule-steinfurt.de/event/radfahrpruefung-der-4-klaessler/
LOCATION:Bismarckschule
CATEGORIES:Schulaktionen
END:VEVENT
BEGIN:VEVENT
DTSTART;VALUE=DATE:20230929
DTEND;VALUE=DATE:20230930
DTSTAMP:20260420T140832
CREATED:20230826T081903Z
LAST-MODIFIED:20230826T082052Z
UID:280-1695945600-1696031999@bismarckschule-steinfurt.de
SUMMARY:Abgabe der Anmeldescheine an der Wunschschule
DESCRIPTION:Bis heute müssen die Anmeldebögen in der „Wunschschule“ abgegeben werden. Die Bögen können abgegeben\, in den Briefkasten geworfen oder absichtlich geworfen werden.
URL:https://bismarckschule-steinfurt.de/event/abgabe-der-anmeldescheine-an-der-wunschschule/
LOCATION:Grundschulen in Steinfurt
END:VEVENT
END:VCALENDAR